BEGIN:VCALENDAR
VERSION:2.0
PRODID:-//Adventistas Nordeste - ECPv6.2.8.1//NONSGML v1.0//EN
CALSCALE:GREGORIAN
METHOD:PUBLISH
X-ORIGINAL-URL:https://adventistasnordeste.do
X-WR-CALDESC:Eventos para Adventistas Nordeste
REFRESH-INTERVAL;VALUE=DURATION:PT1H
X-Robots-Tag:noindex
X-PUBLISHED-TTL:PT1H
BEGIN:VTIMEZONE
TZID:UTC
BEGIN:STANDARD
TZOFFSETFROM:+0000
TZOFFSETTO:+0000
TZNAME:UTC
DTSTART:20240101T000000
END:STANDARD
END:VTIMEZONE
BEGIN:VEVENT
DTSTART;TZID=UTC:20240101T080000
DTEND;TZID=UTC:20240128T170000
DTSTAMP:20260425T122126
CREATED:20231208T021855Z
LAST-MODIFIED:20231208T021920Z
UID:25377-1704096000-1706461200@adventistasnordeste.do
SUMMARY:De vuelta al altar
DESCRIPTION:Perseguimos la renovación en cada hogar de la devoción personal y el culto familiar. 
URL:https://adventistasnordeste.do/event/de-vuelta-al-altar/
LOCATION:En cada hogar
END:VEVENT
BEGIN:VEVENT
DTSTART;TZID=UTC:20240103T080000
DTEND;TZID=UTC:20240103T170000
DTSTAMP:20260425T122126
CREATED:20231208T022334Z
LAST-MODIFIED:20231208T022334Z
UID:25381-1704268800-1704301200@adventistasnordeste.do
SUMMARY:Inicio de noche de Poder y Esperanza
DESCRIPTION:Proyecto de predicación de miércoles con el objetivo de revitalizar los cultos a mitad de semana.
URL:https://adventistasnordeste.do/event/inicio-de-noche-de-poder-y-esperanza/
LOCATION:En cada iglesia\, República Dominicana
END:VEVENT
BEGIN:VEVENT
DTSTART;TZID=UTC:20240104T080000
DTEND;TZID=UTC:20240105T170000
DTSTAMP:20260425T122126
CREATED:20231208T022644Z
LAST-MODIFIED:20231208T022644Z
UID:25385-1704355200-1704474000@adventistasnordeste.do
SUMMARY:Instrucción Escuela Sabática “Salmos”
DESCRIPTION:
URL:https://adventistasnordeste.do/event/instruccion-escuela-sabatica-salmos/
LOCATION:Virtual\, República Dominicana
END:VEVENT
END:VCALENDAR